BEGIN:VCALENDAR
VERSION:2.0
PRODID:-//221.121.152.107//NONSGML kigkonsult.se iCalcreator 2.24.2//
CALSCALE:GREGORIAN
METHOD:PUBLISH
X-WR-CALNAME:Bushland Beach Tavern
X-WR-CALDESC:Accommodation\, Bar\, Lounge\, Bistro\, Pokies\, TAB\, Bottle 
 Shop
X-FROM-URL:https://bushlandbeachtavern.com.au
X-WR-TIMEZONE:Australia/Brisbane
BEGIN:VTIMEZONE
TZID:Australia/Brisbane
X-LIC-LOCATION:Australia/Brisbane
BEGIN:STANDARD
DTSTART:19920301T030000
TZOFFSETFROM:+1100
TZOFFSETTO:+1000
TZNAME:AEST
END:STANDARD
END:VTIMEZONE
BEGIN:VEVENT
UID:ai1ec-943@duracktavern.com.au/beta
DTSTAMP:20190301T005110Z
CATEGORIES:
CONTACT:
DESCRIPTION:<p>Catch all the Sporting Action LIVE on our BIG Screen TV tele
 cast in HD via our 3 Fox Sports Channels</p>
DTSTART;VALUE=DATE:20170520
DTEND;VALUE=DATE:20170521
RRULE:FREQ=WEEKLY;BYDAY=SA;WKST=SU
SEQUENCE:0
SUMMARY:Sporting Action LIVE on TV
URL:https://bushlandbeachtavern.com.au/event/sporting-action-live-tv/
X-COST-TYPE:free
END:VEVENT
END:VCALENDAR
